BEGIN:VCALENDAR
VERSION:2.0
PRODID:-//ChamberMaster//Event Calendar 2.0//EN
METHOD:PUBLISH
X-PUBLISHED-TTL:P3D
REFRESH-INTERVAL:P3D
CALSCALE:GREGORIAN
BEGIN:VEVENT
DTSTART:20150707T170000Z
DTEND:20150707T180000Z
X-MICROSOFT-CDO-ALLDAYEVENT:FALSE
SUMMARY:Lisle Executive Networking Group (LENG)
DESCRIPTION:Lisle Executive Networking Group (LENG)\n\nTuesday\, July 7\, 2015\n\n12:00 p.m.\n\nSeven Bridges Golf Club\n\n1 Mulligan Drive\n\nWoodridge\, IL 60517
X-ALT-DESC;FMTTYPE=text/html:<strong>Lisle Executive Networking Group (LENG)</strong><br />\nTuesday\, July 7\, 2015<br />\n12:00 p.m.<br />\n<b>Seven Bridges Golf Club</b><br />\n1 Mulligan Drive<br />\nWoodridge\, IL 60517
LOCATION:Seven Bridges Golf Club 1 Mulligan Drive Woodridge\, IL 60517
UID:e.27.2995
SEQUENCE:3
DTSTAMP:20260425T131915Z
URL:http://lislechamber.chambermaster.com/events/details/lisle-executive-networking-group-leng-07-07-2015-2995
END:VEVENT

END:VCALENDAR
