BEGIN:VCALENDAR
VERSION:2.0
PRODID:-//ChamberMaster//Event Calendar 2.0//EN
METHOD:PUBLISH
X-PUBLISHED-TTL:P3D
REFRESH-INTERVAL:P3D
CALSCALE:GREGORIAN
BEGIN:VEVENT
DTSTART:20170131T133000Z
DTEND:20170131T153000Z
X-MICROSOFT-CDO-ALLDAYEVENT:FALSE
SUMMARY:Multi-Chamber Breakfast "COD - The Next 50 years"
DESCRIPTION:Multi-Chamber Breakfast "COD - The Next 50 Years" with speaker Dr. Ann Rondeau\, President of College of DuPage\n\nTuesday\, January 31\, 2017\n\n7:30 a.m. - 9:30 a.m.\n\n\n\nCollege of DuPage \n\n425 Fawell Blvd.\, Student Resource Center (SRC)\, Room 2000\n\nGlen Ellyn\, IL 60137\n\n\n\n$20.00 - Member\n\n$25.00 - Non-Member
X-ALT-DESC;FMTTYPE=text/html:<br />\n<strong>Multi-Chamber Breakfast &quot\;COD - The Next 50 Years&quot\; with speaker Dr. Ann Rondeau\, President of College of DuPage</strong><br />\nTuesday\, January 31\, 2017<br />\n7:30 a.m. - 9:30 a.m.<br />\n<br />\n<strong>College of DuPage&nbsp\;</strong><br />\n425 Fawell Blvd.\, Student Resource Center (SRC)\, Room 2000<br />\nGlen&nbsp\;Ellyn\, IL 60137<br />\n<br />\n<strong>$20.00 - Member<br />\n$25.00 - Non-Member</strong>
LOCATION:College of DuPage 425 Fawell Blvd.\, Student Resource Center (SRC)\, Room 2000 Glen Ellyn\, IL 60137
UID:e.27.4718
SEQUENCE:3
DTSTAMP:20260420T042715Z
URL:http://lislechamber.chambermaster.com/events/details/multi-chamber-breakfast-cod-the-next-50-years-4718
END:VEVENT

END:VCALENDAR
